BEGIN:VCALENDAR
VERSION:2.0
PRODID:spatie/icalendar-generator
DESCRIPTION:Veranstaltungen von Taekwondo-Club Fieberbrunn
X-WR-CALDESC:Veranstaltungen von Taekwondo-Club Fieberbrunn
REFRESH-INTERVAL;VALUE=DURATION:PT1440M
X-PUBLISHED-TTL:PT1440M
BEGIN:VTIMEZONE
TZID:Europe/Vienna
BEGIN:STANDARD
DTSTART:20231029T030000Z
TZOFFSETFROM:+0200
TZOFFSETTO:+0100
END:STANDARD
BEGIN:DAYLIGHT
DTSTART:20240331T020000Z
TZOFFSETFROM:+0100
TZOFFSETTO:+0200
END:DAYLIGHT
END:VTIMEZONE
BEGIN:VTIMEZONE
TZID:UTC
BEGIN:STANDARD
DTSTART:20250728T073515Z
TZOFFSETFROM:+0000
TZOFFSETTO:+0000
END:STANDARD
END:VTIMEZONE
BEGIN:VEVENT
UID:12-10
DTSTAMP:20260424T073515Z
SUMMARY:Tiroler Meisterschaft (Kyorugi und Poomsae)
LOCATION:
ORGANIZER;CN=Taekwondoclub Fieberbrunn:MAILTO:web@it-ain.at
DTSTART;TZID=Europe/Vienna:20240323T080000
DTEND;TZID=Europe/Vienna:20240323T090000
X-ALT-DESC;FMTTYPE=TEXT/HTML:Die Tiroler Meisterschaft 2024 findet in Wörg
 l statt. Techniker und Kämpfer starten beide am selben Tag.
CATEGORIES:General
URL;VALUE=URI:https://www.taekwondoclub-fieberbrunn.at/mc-events/tiroler-me
 isterschaft-kyorugi-und-poomsae/
METHOD:PUBLISH
END:VEVENT
END:VCALENDAR