BEGIN:VCALENDAR
VERSION:2.0
PRODID:spatie/icalendar-generator
DESCRIPTION:Veranstaltungen von Taekwondo-Club Fieberbrunn
X-WR-CALDESC:Veranstaltungen von Taekwondo-Club Fieberbrunn
REFRESH-INTERVAL;VALUE=DURATION:PT1440M
X-PUBLISHED-TTL:PT1440M
BEGIN:VTIMEZONE
TZID:Europe/Vienna
BEGIN:STANDARD
DTSTART:20231029T030000Z
TZOFFSETFROM:+0200
TZOFFSETTO:+0100
END:STANDARD
BEGIN:DAYLIGHT
DTSTART:20240331T020000Z
TZOFFSETFROM:+0100
TZOFFSETTO:+0200
END:DAYLIGHT
END:VTIMEZONE
BEGIN:VTIMEZONE
TZID:UTC
BEGIN:STANDARD
DTSTART:20250729T235052Z
TZOFFSETFROM:+0000
TZOFFSETTO:+0000
END:STANDARD
END:VTIMEZONE
BEGIN:VEVENT
UID:14-12
DTSTAMP:20260425T235052Z
SUMMARY:Bulgaria Open G1 (Poomsae)
LOCATION:
ORGANIZER;CN=Taekwondoclub Fieberbrunn:MAILTO:web@it-ain.at
DTSTART;TZID=Europe/Vienna:20240303T080000
DTEND;TZID=Europe/Vienna:20240305T090000
X-ALT-DESC;FMTTYPE=TEXT/HTML:
CATEGORIES:General
URL;VALUE=URI:https://www.taekwondoclub-fieberbrunn.at/mc-events/bulgaria-o
 pen-g1-poomsae/
METHOD:PUBLISH
END:VEVENT
END:VCALENDAR