BEGIN:VCALENDAR
VERSION:2.0
PRODID:spatie/icalendar-generator
DESCRIPTION:Veranstaltungen von Taekwondo-Club Fieberbrunn
X-WR-CALDESC:Veranstaltungen von Taekwondo-Club Fieberbrunn
REFRESH-INTERVAL;VALUE=DURATION:PT1440M
X-PUBLISHED-TTL:PT1440M
BEGIN:VTIMEZONE
TZID:Europe/Vienna
BEGIN:STANDARD
DTSTART:20231029T030000Z
TZOFFSETFROM:+0200
TZOFFSETTO:+0100
END:STANDARD
BEGIN:DAYLIGHT
DTSTART:20240331T020000Z
TZOFFSETFROM:+0100
TZOFFSETTO:+0200
END:DAYLIGHT
BEGIN:STANDARD
DTSTART:20241027T030000Z
TZOFFSETFROM:+0200
TZOFFSETTO:+0100
END:STANDARD
END:VTIMEZONE
BEGIN:VTIMEZONE
TZID:UTC
BEGIN:STANDARD
DTSTART:20250726T083335Z
TZOFFSETFROM:+0000
TZOFFSETTO:+0000
END:STANDARD
END:VTIMEZONE
BEGIN:VEVENT
UID:10-9
DTSTAMP:20260422T083335Z
SUMMARY:Kaiserwinkl Open (Kyorugi)
LOCATION:
ORGANIZER;CN=Taekwondoclub Fieberbrunn:MAILTO:web@it-ain.at
DTSTART;TZID=Europe/Vienna:20240427T080000
DTEND;TZID=Europe/Vienna:20240427T090000
X-ALT-DESC;FMTTYPE=TEXT/HTML:internationale Kaiserwinkl Open in Kössen
CATEGORIES:General
URL;VALUE=URI:https://www.taekwondoclub-fieberbrunn.at/mc-events/kaiserwink
 l-open-kyorugi/
METHOD:PUBLISH
END:VEVENT
END:VCALENDAR